BEGIN:VCALENDAR
VERSION:2.0
PRODID:DPCALENDAR
CALSCALE:GREGORIAN
X-WR-TIMEZONE:UTC
BEGIN:VEVENT
DTSTART;TZID=UTC:20251216T110000
DTEND;TZID=UTC:20251216T120000
UID:6D2087EC-EC7C-443B-9C7E-8F02F28A7943
SUMMARY:Report Launch: Navigating a Reset of the Global Economic Order
CREATED:20251103T184520Z
DTSTAMP:20251103T184520Z
URL:https://potomacinstitute-org.zoom.us/webinar/register/WN_tMZBY4VUQi2uRS9CBYK1ZQ#/
DESCRIPTION:\NThe Potomac Institute for Policy Studies provides trusted, nonpartisan analysis and policy recommendations needed to address society's most profound challenges, for today and tomorrow. The Potomac Institute, along with Texas A&M University, recently convened representatives from government, industry, and academia to discuss: "Navigating a Reset of the Global Economic Order" at the fifth annual Economic Statecraft Summit. Held amidst a government shutdown, the Summit focused on identifying and understanding major evolutionary issues associated with economic statecraft over the last 18 months.\NAmong their observations, our researchers identified three major paradigm shifts found below, and developed policy recommendations:\N\N\NEconomic Security is National Security: The line between commercial activity and national defense has vanished. The use of tariffs, export controls on AI-enabling hardware (like advanced semiconductors), and targeted industrial policy are increasingly core foreign policy tools.\N\N\NThe Rise of State Intervention: The global economy is trending away from an open, market-driven system toward one marked by greater state activism. This has led to a strategic landscape of disruption and volatility, which our policymakers and private sector firms must learn to navigate.\N\N\NThe Private Sector is the Front Line: Private companies and their investment decisions are now critical front-line actors in economic competition. They need clearer, unified signaling from the US government to harmonize their business goals with national security objectives.\N\N\NModerator:\NMadeline Field, Assistant Editor, War on the Rocks\NSpeakers:\NDr. Tim Welter, Senior Research Fellow, Potomac Institute for Policy Studies \NDr. Will Norris, Associate Professor, The Bush School at Texas A&M University\NPlease join us on December 16th at 11:00 AM EST for the webinar where the final Summit Report will be released sharing key findings and policy recommendations.\N
X-ALT-DESC;FMTTYPE=text/html:<div class="x_elementToProof" data-olk-copy-source="MessageBody"><p data-pm-slice="1 1 []">The Potomac Institute for Policy Studies provides trusted, nonpartisan analysis and policy recommendations&nbsp;needed to address society's most profound challenges, for today and tomorrow. The Potomac Institute, along with Texas A&amp;M University, recently convened representatives from government, industry, and academia to discuss: "Navigating a Reset of the Global Economic Order" at the fifth annual Economic Statecraft Summit. Held amidst a government shutdown, the Summit focused on identifying and understanding major evolutionary issues associated with economic statecraft over the last 18 months.</p><p><strong>Among their observations, our researchers identified three major paradigm shifts found below, and developed policy recommendations:</strong></p><ol><li><p><strong>Economic Security is National Security:&nbsp;</strong>The line between commercial activity and national defense has vanished. The use of tariffs, export controls on AI-enabling hardware (like advanced semiconductors), and targeted industrial policy are increasingly core foreign policy tools.</p></li><li><p><strong>The Rise of State Intervention:</strong>&nbsp;The global economy is trending away from an open, market-driven system toward one marked by greater state activism. This has led to a strategic landscape of disruption and volatility, which our policymakers and private sector firms must learn to navigate.</p></li><li><p><strong>The Private Sector is the Front Line:</strong> Private companies and their investment decisions are now critical front-line actors in economic competition. They need clearer, unified signaling from the US government to harmonize their business goals with national security objectives.</p></li></ol><p><span style="text-decoration: underline;">Moderator</span>:</p><p><strong>Madeline Field</strong>,&nbsp;<em>Assistant Editor, War on the Rocks</em></p><p><span style="text-decoration: underline;">Speakers</span>:</p><p><strong>Dr. Tim Welter</strong>,&nbsp;<em>Senior Research Fellow, Potomac Institute for Policy Studies&nbsp;</em></p><p><strong>Dr. Will Norris</strong>,&nbsp;<em>Associate Professor, The Bush School at Texas A&amp;M University</em></p><p class="x_elementToProof">Please join us on December 16th at 11:00 AM EST for the webinar where the&nbsp;<strong>final Summit Report will be released sharing key findings and policy recommendations.</strong></p></div>
LAST-MODIFIED:20251210T140152Z
SEQUENCE:3179792
X-ACCESS:1
X-HITS:757
X-COLOR:3366cc
X-IMAGE-FULL:https://potomacinstitute.org/images/Events_and_Webinars/shutterstock_2200141039_2.jpg
X-IMAGE-INTRO:https://potomacinstitute.org/images/shutterstock_2200141039_2.jpg
X-SHOW-END-TIME:1
END:VEVENT
END:VCALENDAR